BEGIN:VCALENDAR
VERSION:2.0
PRODID:-//Spiva Center for the Arts - ECPv6.15.20//NONSGML v1.0//EN
CALSCALE:GREGORIAN
METHOD:PUBLISH
X-WR-CALNAME:Spiva Center for the Arts
X-ORIGINAL-URL:https://spivaarts.org
X-WR-CALDESC:Events for Spiva Center for the Arts
REFRESH-INTERVAL;VALUE=DURATION:PT1H
X-Robots-Tag:noindex
X-PUBLISHED-TTL:PT1H
BEGIN:VTIMEZONE
TZID:America/Chicago
BEGIN:DAYLIGHT
TZOFFSETFROM:-0600
TZOFFSETTO:-0500
TZNAME:CDT
DTSTART:20250309T080000
END:DAYLIGHT
BEGIN:STANDARD
TZOFFSETFROM:-0500
TZOFFSETTO:-0600
TZNAME:CST
DTSTART:20251102T070000
END:STANDARD
BEGIN:DAYLIGHT
TZOFFSETFROM:-0600
TZOFFSETTO:-0500
TZNAME:CDT
DTSTART:20260308T080000
END:DAYLIGHT
BEGIN:STANDARD
TZOFFSETFROM:-0500
TZOFFSETTO:-0600
TZNAME:CST
DTSTART:20261101T070000
END:STANDARD
BEGIN:DAYLIGHT
TZOFFSETFROM:-0600
TZOFFSETTO:-0500
TZNAME:CDT
DTSTART:20270314T080000
END:DAYLIGHT
BEGIN:STANDARD
TZOFFSETFROM:-0500
TZOFFSETTO:-0600
TZNAME:CST
DTSTART:20271107T070000
END:STANDARD
END:VTIMEZONE
BEGIN:VEVENT
DTSTART;TZID=America/Chicago:20260712T140000
DTEND;TZID=America/Chicago:20260712T150000
DTSTAMP:20260424T070348
CREATED:20260421T190851Z
LAST-MODIFIED:20260421T194021Z
UID:12987-1783864800-1783868400@spivaarts.org
SUMMARY:Artist Talk | Jesse McCormick
DESCRIPTION:Enjoy a whimsical artist talk with Jesse McCormick as he shares stories and insights from his fascinating career as a painter. His exhibition Jesse McCormick’s Whirled World of Freed Fantasies is a world that feels discovered rather than constructed\, as though it has always existed just beneath the surface of everyday seeing. This talk offers a chance to hear directly from the artist in a relaxed\, conversational setting and gain deeper insight into the ideas behind the exhibition. \n$10 Suggested Donation \nThis artist talk takes place during our new Second Sundays at Spiva\, where galleries are open from 1-4pm!
URL:https://spivaarts.org/event/artist-talk-jesse-mccormick/
ATTACH;FMTTYPE=image/jpeg:https://spivaarts.org/wp-content/uploads/2026/04/DSC01316-scaled-e1776800373189.jpg
END:VEVENT
END:VCALENDAR