BEGIN:VCALENDAR
VERSION:2.0
PRODID:-//Spiva Center for the Arts - ECPv6.15.18//NONSGML v1.0//EN
CALSCALE:GREGORIAN
METHOD:PUBLISH
X-WR-CALNAME:Spiva Center for the Arts
X-ORIGINAL-URL:https://spivaarts.org
X-WR-CALDESC:Events for Spiva Center for the Arts
REFRESH-INTERVAL;VALUE=DURATION:PT1H
X-Robots-Tag:noindex
X-PUBLISHED-TTL:PT1H
BEGIN:VTIMEZONE
TZID:America/Chicago
BEGIN:DAYLIGHT
TZOFFSETFROM:-0600
TZOFFSETTO:-0500
TZNAME:CDT
DTSTART:20250309T080000
END:DAYLIGHT
BEGIN:STANDARD
TZOFFSETFROM:-0500
TZOFFSETTO:-0600
TZNAME:CST
DTSTART:20251102T070000
END:STANDARD
BEGIN:DAYLIGHT
TZOFFSETFROM:-0600
TZOFFSETTO:-0500
TZNAME:CDT
DTSTART:20260308T080000
END:DAYLIGHT
BEGIN:STANDARD
TZOFFSETFROM:-0500
TZOFFSETTO:-0600
TZNAME:CST
DTSTART:20261101T070000
END:STANDARD
BEGIN:DAYLIGHT
TZOFFSETFROM:-0600
TZOFFSETTO:-0500
TZNAME:CDT
DTSTART:20270314T080000
END:DAYLIGHT
BEGIN:STANDARD
TZOFFSETFROM:-0500
TZOFFSETTO:-0600
TZNAME:CST
DTSTART:20271107T070000
END:STANDARD
END:VTIMEZONE
BEGIN:VEVENT
DTSTART;TZID=America/Chicago:20260424T173000
DTEND;TZID=America/Chicago:20260424T193000
DTSTAMP:20260419T163628
CREATED:20260303T231927Z
LAST-MODIFIED:20260303T231927Z
UID:12268-1777051800-1777059000@spivaarts.org
SUMMARY:Closing Bidding Party | Small Works Auction 2026
DESCRIPTION:Mark your calendars and get ready to bid on stunning art while supporting a great cause! The Closing Bidding Party for Small Works 2026 is Friday\, April 24th\, 5:30-7:30pm in the Sharon & Lance Beshore Gallery.\nWhat is Small Works?\nSmall Works is more than a silent auction—it’s a celebration of our creative community and a unique opportunity for artists to make a meaningful impact. Open to Spiva members of all ages\, this event allows artists to showcase their talents while directly supporting the arts in our region. \nBy donating their artwork\, participating members help sustain the programs\, exhibits\, and educational opportunities offered by George A. Spiva Center for the Arts. Their generosity ensures that Spiva remains a vibrant cultural hub for artists and art lovers alike. \nFor our community\, Small Works offers a chance to collect one-of-a-kind pieces created by talented local artists while contributing to a cause that enriches our collective experience. We are deeply grateful to the artists for their creativity and generosity—your contributions inspire and uplift our mission to nurture the arts. \nSponsored by: Ann K. Turney
URL:https://spivaarts.org/event/closing-bidding-party-small-works-auction-2026/
CATEGORIES:Events
ATTACH;FMTTYPE=image/png:https://spivaarts.org/wp-content/uploads/2026/03/Closing-Bidding-Party-Event-Small-Works-2026.png
END:VEVENT
END:VCALENDAR