BEGIN:VCALENDAR
VERSION:2.0
PRODID:-//Spiva Center for the Arts - ECPv6.15.20//NONSGML v1.0//EN
CALSCALE:GREGORIAN
METHOD:PUBLISH
X-WR-CALNAME:Spiva Center for the Arts
X-ORIGINAL-URL:https://spivaarts.org
X-WR-CALDESC:Events for Spiva Center for the Arts
REFRESH-INTERVAL;VALUE=DURATION:PT1H
X-Robots-Tag:noindex
X-PUBLISHED-TTL:PT1H
BEGIN:VTIMEZONE
TZID:America/Chicago
BEGIN:DAYLIGHT
TZOFFSETFROM:-0600
TZOFFSETTO:-0500
TZNAME:CDT
DTSTART:20250309T080000
END:DAYLIGHT
BEGIN:STANDARD
TZOFFSETFROM:-0500
TZOFFSETTO:-0600
TZNAME:CST
DTSTART:20251102T070000
END:STANDARD
BEGIN:DAYLIGHT
TZOFFSETFROM:-0600
TZOFFSETTO:-0500
TZNAME:CDT
DTSTART:20260308T080000
END:DAYLIGHT
BEGIN:STANDARD
TZOFFSETFROM:-0500
TZOFFSETTO:-0600
TZNAME:CST
DTSTART:20261101T070000
END:STANDARD
BEGIN:DAYLIGHT
TZOFFSETFROM:-0600
TZOFFSETTO:-0500
TZNAME:CDT
DTSTART:20270314T080000
END:DAYLIGHT
BEGIN:STANDARD
TZOFFSETFROM:-0500
TZOFFSETTO:-0600
TZNAME:CST
DTSTART:20271107T070000
END:STANDARD
END:VTIMEZONE
BEGIN:VEVENT
DTSTART;TZID=America/Chicago:20260518T180000
DTEND;TZID=America/Chicago:20260518T200000
DTSTAMP:20260424T054648
CREATED:20260421T194549Z
LAST-MODIFIED:20260421T194549Z
UID:13004-1779127200-1779134400@spivaarts.org
SUMMARY:Closing Reception | Central Ozark Conference Competitive Art Show
DESCRIPTION:Join the closing reception for this exhibit that celebrates the fantastic creativity and talent of our region’s young artists\, with awards given in the form of ribbons. \nExplore more about the youth art exhibition HERE.
URL:https://spivaarts.org/event/closing-reception-central-ozark-conference-competitive-art-show/
CATEGORIES:Events
ATTACH;FMTTYPE=image/png:https://spivaarts.org/wp-content/uploads/2026/04/6454cc67-2cf3-4b45-a536-672fd235a1e0.png
END:VEVENT
END:VCALENDAR