BEGIN:VCALENDAR
VERSION:2.0
PRODID:-//Spiva Center for the Arts - ECPv6.15.18//NONSGML v1.0//EN
CALSCALE:GREGORIAN
METHOD:PUBLISH
X-WR-CALNAME:Spiva Center for the Arts
X-ORIGINAL-URL:https://spivaarts.org
X-WR-CALDESC:Events for Spiva Center for the Arts
REFRESH-INTERVAL;VALUE=DURATION:PT1H
X-Robots-Tag:noindex
X-PUBLISHED-TTL:PT1H
BEGIN:VTIMEZONE
TZID:America/Chicago
BEGIN:DAYLIGHT
TZOFFSETFROM:-0600
TZOFFSETTO:-0500
TZNAME:CDT
DTSTART:20250309T080000
END:DAYLIGHT
BEGIN:STANDARD
TZOFFSETFROM:-0500
TZOFFSETTO:-0600
TZNAME:CST
DTSTART:20251102T070000
END:STANDARD
BEGIN:DAYLIGHT
TZOFFSETFROM:-0600
TZOFFSETTO:-0500
TZNAME:CDT
DTSTART:20260308T080000
END:DAYLIGHT
BEGIN:STANDARD
TZOFFSETFROM:-0500
TZOFFSETTO:-0600
TZNAME:CST
DTSTART:20261101T070000
END:STANDARD
BEGIN:DAYLIGHT
TZOFFSETFROM:-0600
TZOFFSETTO:-0500
TZNAME:CDT
DTSTART:20270314T080000
END:DAYLIGHT
BEGIN:STANDARD
TZOFFSETFROM:-0500
TZOFFSETTO:-0600
TZNAME:CST
DTSTART:20271107T070000
END:STANDARD
END:VTIMEZONE
BEGIN:VEVENT
DTSTART;VALUE=DATE:20260421
DTEND;VALUE=DATE:20260609
DTSTAMP:20260422T014117
CREATED:20260421T161349Z
LAST-MODIFIED:20260421T161402Z
UID:10000768-1776729600-1780963199@spivaarts.org
SUMMARY:CALL FOR ART | Art: Outside the Box
DESCRIPTION:Artists and creatives of all experience levels are invited to submit original artwork for a public art project that will bring color and creativity to downtown Joplin. Selected designs will be professionally reproduced as vinyl wraps and installed on utility boxes throughout downtown Joplin\, adding vibrancy and a stronger sense of place to everyday infrastructure. This project celebrates the power of art to energize public spaces\, reflect the spirit of our community\, and create unexpected moments of visual interest throughout the city.\n\n\n\nWHO CAN ENTER?\n• Open to artists and creators in Youth (17 & under) and Adult (18+) categories. All media welcome!\n\n\n\nTHEME\n• Create something bold\, creative\, and public-art friendly.\n• Suggested inspiration includes:\n• Community & connection\n• Nature\, color & pattern\n• Movement\, energy & transformation\n• Creative takes on Joplin identity\n\n\n\nSUBMISSION DETAILS\n• Entry Fee: $10\n• Up to 2 designs per artist\n• Submissions open now!\n• Deadline: June 8\, 2026 at 11:59 PM\n\n\n\n★ Apply on CaFE here: https://bit.ly/artoutsidethebox-apply\n★ View the full prospectus here: https://bit.ly/artoutsidethebox-prospectus\n\n\n\nQUESTIONS?\n• More information | https://www.downtownjoplin.com/event/art-outside-the-box/\n• General Questions | Lori Haun\, Downtown Joplin Alliance | 417-501-9649 | lori@downtownjoplin.com\n• Art entry or CaFÉ Technical Support | 417-623-0183 | exhibits@spivaarts.org | https://artist-help.callforentry.org/col/intro
URL:https://spivaarts.org/event/call-for-art-art-outside-the-box/
CATEGORIES:Events
ATTACH;FMTTYPE=image/jpeg:https://spivaarts.org/wp-content/uploads/2026/04/Event-Headers-WebsiteFB-7.jpg
END:VEVENT
BEGIN:VEVENT
DTSTART;VALUE=DATE:20260422
DTEND;VALUE=DATE:20260623
DTSTAMP:20260422T014117
CREATED:20260416T182458Z
LAST-MODIFIED:20260421T155926Z
UID:10000767-1776816000-1782172799@spivaarts.org
SUMMARY:CALL FOR ART | Printmaking Exhibition
DESCRIPTION:Spiva Center for the Arts is pleased to announce an upcoming call for entries for a printmaking-focused exhibition celebrating the depth\, versatility\, and creative potential of the medium. Artists working in all forms of printmaking—from traditional techniques such as etching\, woodcut\, and lithography to contemporary and experimental processes—are encouraged to apply. \nThis year’s call will place a special emphasis on the use of collage within printmaking\, inviting artists to explore layering\, fragmentation\, and the interplay of multiple printed elements. Artists incorporating collage-based approaches—whether through mixed processes\, assembled prints\, or hybrid techniques—are especially encouraged to submit work that expands the boundaries of the medium. \nThis exhibition aims to showcase a broad range of approaches to printmaking\, highlighting both technical mastery and innovative exploration. Whether rooted in tradition or pushing the boundaries of the medium\, submitted works should reflect a strong engagement with print-based processes. Artists of all backgrounds and experience levels are encouraged to participate. \nThe exhibition will open to the public on August 7\, 2026\, inside the Harry M. Cornell Arts & Entertainment Complex\, inviting the community to experience the richness and diversity of printmaking firsthand. \n  \nImportant Dates: \nSubmissions open on CaFE (CallForEntry.org): April 23\, 2026 \nSubmission deadline: June 22\, 2026 at 11:59pm \nAcceptance notification: June 26\, 2026 \nArtwork delivery deadline: July 24\, 2026 \nExhibit opens to public: August 7\, 2026 \n  \nQuestions? Contact the Spiva office at exhibits@spivaarts.org or 417-623-0183
URL:https://spivaarts.org/event/call-for-art-printmaking-exhibition/
CATEGORIES:Events
ATTACH;FMTTYPE=image/jpeg:https://spivaarts.org/wp-content/uploads/2026/04/CALL-FOR-ART-1.jpg
END:VEVENT
END:VCALENDAR